BEGIN:VCALENDAR
VERSION:2.0
PRODID:-//Tukios.com/
BEGIN:VEVENT
UID:43976875-88bc-4b5d-9817-23f8cfdfd7c9@www.whiteluttrell.com
DTSTAMP:20260420T172131Z
DTSTART:20260424T140000Z
DTEND:20260424T150000Z
SUMMARY:Visitation
DESCRIPTION:
URL:https://www.whiteluttrell.com/obituaries/sandra-dipaola
LOCATION: 311 N. Swarthmore Avenue  Ridley Park PA 19078
GEO:39.880382;-75.3251071
END:VEVENT
END:VCALENDAR