BEGIN:VCALENDAR
VERSION:2.0
PRODID:-//Tukios.com/
BEGIN:VEVENT
UID:746311bb-8acc-4efa-80ba-717740063c1e@www.whiteluttrell.com
DTSTAMP:20260420T172323Z
DTSTART:20260424T150000Z
DTEND:20260424T160000Z
SUMMARY:Funeral Service
DESCRIPTION:
URL:https://www.whiteluttrell.com/obituaries/sandra-dipaola
LOCATION: 311 N. Swarthmore Avenue  Ridley Park PA 19078
GEO:39.880382;-75.3251071
END:VEVENT
END:VCALENDAR