BEGIN:VCALENDAR
VERSION:2.0
PRODID:-//Tukios.com/
BEGIN:VEVENT
UID:07648ebb-196b-4fc2-9d5b-ab4108a62a5f@www.whiteluttrell.com
DTSTAMP:20260422T165055Z
DTSTART:20260502T143000Z
DTEND:20260502T153000Z
SUMMARY:Funeral Service
DESCRIPTION:
URL:https://www.whiteluttrell.com/obituaries/mary-mullany
LOCATION:St. Rose of Lima R.C. Church 1901 Chester Pike  Eddystone PA 
	19022
GEO:39.8656244;-75.3439963
END:VEVENT
END:VCALENDAR