BEGIN:VCALENDAR
VERSION:2.0
PRODID:-//Tukios.com/
BEGIN:VEVENT
UID:be84e299-7a4b-4cc2-9a41-bcb4fa807a8a@www.whiteluttrell.com
DTSTAMP:20260422T165447Z
DTSTART:20260502T133000Z
DTEND:20260502T143000Z
SUMMARY:Visitation
DESCRIPTION:
URL:https://www.whiteluttrell.com/obituaries/mary-mullany
LOCATION:St. Rose of Lima R.C. Church 1901 Chester Pike  Eddystone PA 
	19022
GEO:39.8656244;-75.3439963
END:VEVENT
END:VCALENDAR