BEGIN:VCALENDAR
VERSION:2.0
PRODID:-//Tukios.com/
BEGIN:VEVENT
UID:ee938bdd-506d-4199-98ec-d4f20294c954@www.whiteluttrell.com
DTSTAMP:20260422T165152Z
DTSTART:20260502T000000Z
DTEND:20260502T010000Z
SUMMARY:Sharing of Memories
DESCRIPTION:
URL:https://www.whiteluttrell.com/obituaries/mary-mullany
LOCATION: 311 N. Swarthmore Avenue  Ridley Park PA 19078
GEO:39.880382;-75.3251071
END:VEVENT
END:VCALENDAR