BEGIN:VCALENDAR
VERSION:2.0
PRODID:-//Tukios.com/
BEGIN:VEVENT
UID:38d876a7-5fac-4ae5-bc04-97c74123ec1f@www.whiteluttrell.com
DTSTAMP:20260422T165609Z
DTSTART:20260501T223000Z
DTEND:20260501T234500Z
SUMMARY:Visitation
DESCRIPTION:
URL:https://www.whiteluttrell.com/obituaries/mary-mullany
LOCATION: 311 N. Swarthmore Avenue  Ridley Park PA 19078
GEO:39.880382;-75.3251071
END:VEVENT
END:VCALENDAR