BEGIN:VCALENDAR
VERSION:2.0
PRODID:-//Tukios.com/
BEGIN:VEVENT
UID:bc3ed328-b4a4-4471-a99b-04c35b5cc45c@www.whiteluttrell.com
DTSTAMP:20260420T172257Z
DTSTART:20260424T223000Z
DTEND:20260425T003000Z
SUMMARY:Visitation
DESCRIPTION:
URL:https://www.whiteluttrell.com/obituaries/louis-depietro-jr
LOCATION: 311 N. Swarthmore Avenue  Ridley Park PA 19078
GEO:39.880382;-75.3251071
END:VEVENT
END:VCALENDAR