BEGIN:VCALENDAR
VERSION:2.0
PRODID:-//Tukios.com/
BEGIN:VEVENT
UID:09952922-e385-4f92-bfb9-8f775231b615@www.whiteluttrell.com
DTSTAMP:20260420T172445Z
DTSTART:20260425T150000Z
DTEND:20260425T160000Z
SUMMARY:Mass
DESCRIPTION:
URL:https://www.whiteluttrell.com/obituaries/louis-depietro-jr
LOCATION: 2130 Franklin Ave  Morton PA 19070
GEO:39.9075106;-75.3212023
END:VEVENT
END:VCALENDAR