BEGIN:VCALENDAR
VERSION:2.0
PRODID:-//Tukios.com/
BEGIN:VEVENT
UID:0c45458a-d575-4340-bee8-3edd0664cc34@www.whiteluttrell.com
DTSTAMP:20260420T172008Z
DTSTART:20260425T140000Z
DTEND:20260425T144500Z
SUMMARY:Visitation
DESCRIPTION:
URL:https://www.whiteluttrell.com/obituaries/louis-depietro-jr
LOCATION:Our Lady of Perpetual Help R.C. Church 2130 Franklin Ave  Morton 
	PA 19070
GEO:39.9075106;-75.3212023
END:VEVENT
END:VCALENDAR