BEGIN:VCALENDAR
VERSION:2.0
PRODID:-//Tukios.com/
BEGIN:VEVENT
UID:0ef247c4-957b-42fe-99e7-7d9e879161c0@www.whiteluttrell.com
DTSTAMP:20260422T194411Z
DTSTART:20260516T180000Z
DTEND:20260516T190000Z
SUMMARY:Celebration of Life
DESCRIPTION:
URL:https://www.whiteluttrell.com/obituaries/g-guy-smith
LOCATION:Swarthmore Presbyterian Church 727 Harvard Avenue  Swarthmore PA 
	19081
GEO:39.8991663;-75.3528323
END:VEVENT
END:VCALENDAR