BEGIN:VCALENDAR
VERSION:2.0
PRODID:-//Tukios.com/
BEGIN:VEVENT
UID:2af96450-b396-4e54-b54b-255ca5e9620f@www.whiteluttrell.com
DTSTAMP:20260422T165722Z
DTSTART:20260427T131500Z
DTEND:20260427T141500Z
SUMMARY:Visitation
DESCRIPTION:
URL:https://www.whiteluttrell.com/obituaries/dorothy-malinowski
LOCATION: 3255 Concord Road  Village Green PA 19014
GEO:39.8656235;-75.4195888
END:VEVENT
END:VCALENDAR