BEGIN:VCALENDAR
VERSION:2.0
PRODID:-//Tukios.com/
BEGIN:VEVENT
UID:7d2aef85-be8e-46ba-b8ff-878c6497fa71@www.whiteluttrell.com
DTSTAMP:20260422T170043Z
DTSTART:20260427T143000Z
DTEND:20260427T153000Z
SUMMARY:Mass
DESCRIPTION:
URL:https://www.whiteluttrell.com/obituaries/dorothy-malinowski
LOCATION: 3255 Concord Road  Village Green PA 19014
GEO:39.8656235;-75.4195888
END:VEVENT
END:VCALENDAR